BEGIN:VCALENDAR
PRODID:-//Microsoft Corporation//Outlook 16.0 MIMEDIR//EN
VERSION:2.0
METHOD:PUBLISH
X-MS-OLK-FORCEINSPECTOROPEN:TRUE
BEGIN:VTIMEZONE
TZID:Eastern Standard Time
BEGIN:STANDARD
DTSTART:16011104T020000
RRULE:FREQ=YEARLY;BYDAY=1SU;BYMONTH=11
TZOFFSETFROM:-0400
TZOFFSETTO:-0500
END:STANDARD
BEGIN:DAYLIGHT
DTSTART:16010311T020000
RRULE:FREQ=YEARLY;BYDAY=2SU;BYMONTH=3
TZOFFSETFROM:-0500
TZOFFSETTO:-0400
END:DAYLIGHT
END:VTIMEZONE
BEGIN:VEVENT
CLASS:PUBLIC
CREATED:20251110T195421Z
DESCRIPTION:NEW LOCATION: BALTIMORE\, MD\nThe 2026 Genesis Client Forum wil
	l be held on the waterfront at the contemporary Pendry Hotel <https://www.
	pendry.com/baltimore/>  in historic Fell's Point in Baltimore\, Maryland.\
	n\nNEW FORMAT: ROUNDTABLE SESSIONS\nThe 2026 Genesis Client Forum will kic
	k off with roundtable sessions on industry-focused topics which will allow
	 for more intimate conversations with all participants. \n\nTUESDAY\, APRI
	L 14th\n3:30 p.m. - Concurrent Roundtable Sessions\n6:00 p.m. - Cocktails 
	and Dinner \n\nAfter dinner - Networking and reception by the fireplace in
	 the semi-enclosed courtyard. \n\nWhisky Tasting in the Cannon Room <https
	://www.pendry.com/baltimore/dining/the-cannon-room/>  with Actuary & Whisk
	y Aficionado\, Tim Fischer (on Instagram: @TheWhiskyInfluencer).\n\n\nWEDN
	ESDAY\, APRIL 15th\n7:30 a.m. to 8:30 a.m. - Buffet Breakfast \n8:30 a.m. 
	to 12:00 p.m. - General Sessions\n12:00 p.m. to 1:00 p.m. - Lunch\n1:00 p.
	m. to 3:30 p.m. - General Sessions\n\nA formal invitation and complete age
	nda will be shared in January 2026.\n\n \n\n
DTEND;TZID="Eastern Standard Time":20260415T153000
DTSTAMP:20251110T195421Z
DTSTART;TZID="Eastern Standard Time":20260414T153000
LAST-MODIFIED:20251110T195421Z
LOCATION:Sagamore Pendry Baltimore (1715 Thames St\, Baltimore\, MD  21231)
PRIORITY:5
SEQUENCE:0
SUMMARY;LANGUAGE=en-us:Save the Date 2026 Genesis Client Forum
TRANSP:OPAQUE
UID:040000008200E00074C5B7101A82E00800000000A35DB76C1950DC01000000000000000
	010000000D8AB6AD3FF2BD94A8A78DD8CE8B6182A
X-ALT-DESC;FMTTYPE=text/html:<html xmlns:v="urn:schemas-microsoft-com:vml" 
	xmlns:o="urn:schemas-microsoft-com:office:office" xmlns:w="urn:schemas-mic
	rosoft-com:office:word" xmlns:x="urn:schemas-microsoft-com:office:excel" x
	mlns:m="http://schemas.microsoft.com/office/2004/12/omml" xmlns="http://ww
	w.w3.org/TR/REC-html40">\n<head>\n\n<meta name="Generator" content="Micros
	oft Word 15 (filtered medium)">\n<style><!--\n/* Font Definitions */\n@fon
	t-face\n	{font-family:"Cambria Math"\;\n	panose-1:2 4 5 3 5 4 6 3 2 4\;}\n
	@font-face\n	{font-family:Calibri\;\n	panose-1:2 15 5 2 2 2 4 3 2 4\;}\n@f
	ont-face\n	{font-family:Aptos\;}\n/* Style Definitions */\np.MsoNormal\, l
	i.MsoNormal\, div.MsoNormal\n	{margin:0in\;\n	font-size:12.0pt\;\n	font-fa
	mily:"Aptos"\,sans-serif\;\n	mso-ligatures:standardcontextual\;}\na:link\,
	 span.MsoHyperlink\n	{mso-style-priority:99\;\n	color:#467886\;\n	text-dec
	oration:underline\;}\nspan.EmailStyle18\n	{mso-style-type:personal-compose
	\;\n	font-family:"Calibri"\,sans-serif\;\n	color:windowtext\;}\n.MsoChpDef
	ault\n	{mso-style-type:export-only\;\n	font-size:10.0pt\;\n	mso-ligatures:
	none\;}\n@page WordSection1\n	{size:8.5in 11.0in\;\n	margin:1.0in 1.0in 1.
	0in 1.0in\;}\ndiv.WordSection1\n	{page:WordSection1\;}\n--></style><!--[if
	 gte mso 9]><xml>\n<o:shapedefaults v:ext="edit" spidmax="1026" />\n</xml>
	<![endif]--><!--[if gte mso 9]><xml>\n<o:shapelayout v:ext="edit">\n<o:idm
	ap v:ext="edit" data="1" />\n</o:shapelayout></xml><![endif]-->\n</head>\n
	<body lang="EN-US" link="#467886" vlink="#96607D" style="word-wrap:break-w
	ord">\n<div class="WordSection1">\n<p class="MsoNormal" style="margin-bott
	om:12.0pt"><b><span style="color:#4E95D9">NEW LOCATION: BALTIMORE\, MD</sp
	an><br>\n<span style="color:#3A3A3A">The 2026 Genesis Client Forum will be
	 held on the waterfront at the contemporary</span><span style="color:#4E95
	D9">\n<a href="https://www.pendry.com/baltimore/"><span style="color:#4E95
	D9">Pendry Hotel</span></a>\n</span><span style="color:#3A3A3A">in histori
	c Fell's Point in Baltimore\, Maryland.<br>\n<br>\n</span><span style="col
	or:#4E95D9">NEW FORMAT: ROUNDTABLE SESSIONS</span><br>\n<span style="color
	:#3A3A3A">The 2026 Genesis Client Forum will kick off with roundtable sess
	ions</span> on industry-focused topics which will allow for more intimate 
	conversations with all participants.\n</b><span style="font-size:11.0pt"><
	o:p></o:p></span></p>\n<p class="MsoNormal"><b><span style="color:#4E95D9"
	>TUESDAY\, APRIL 14th</span><br>\n<span style="color:#3A3A3A">3:30 p.m. - 
	</span></b><span style="color:#3A3A3A">Concurrent Round</span>t<span style
	="color:#3A3A3A">able Sessions<br>\n<b>6:00 p.m. - </b>Cocktails and Dinne
	r </span><o:p></o:p></p>\n<p class="MsoNormal"><b>After dinner</b> - Netwo
	rking and reception by the fireplace in the semi-enclosed courtyard.\n<o:p
	></o:p></p>\n<p class="MsoNormal"><span style="color:#3A3A3A">Whisky Tasti
	ng in the </span><b><span style="color:#4E95D9"><a href="https://www.pendr
	y.com/baltimore/dining/the-cannon-room/"><span style="color:#4E95D9">Canno
	n Room</span></a></span></b><span style="color:#3A3A3A">\n with Actuary &a
	mp\; Whisky Aficionado\, Tim Fischer (on Instagram: @TheWhiskyInfluencer)<
	/span>.<o:p></o:p></p>\n<p class="MsoNormal" style="margin-bottom:12.0pt">
	<b><br>\n<span style="color:#4E95D9">WEDNESDAY\, APRIL 15th</span><br>\n<s
	pan style="color:#3A3A3A">7:30 a.m. to 8:30 a.m. - </span></b><span style=
	"color:#3A3A3A">Buffet Breakfast\n<br>\n<b>8:30 a.m. to 12:00 p.m. - </b>G
	eneral Sessions<br>\n<b>12:00 p.m. to 1:00 p.m. - </b>Lunch<br>\n<b>1:00 p
	.m. to 3:30 p.m. - </b>General Sessions</span><span style="font-family:&qu
	ot\;Calibri&quot\;\,sans-serif"><o:p></o:p></span></p>\n<p class="MsoNorma
	l"><b><span style="color:#4E95D9">A formal invitation and complete agenda 
	will be shared in January 2026.<o:p></o:p></span></b></p>\n<p class="MsoNo
	rmal"><span style="font-family:&quot\;Calibri&quot\;\,sans-serif"><o:p>&nb
	sp\;</o:p></span></p>\n</div>\n</body>\n</html>\n
X-MICROSOFT-CDO-BUSYSTATUS:BUSY
X-MICROSOFT-CDO-IMPORTANCE:1
X-MICROSOFT-DISALLOW-COUNTER:FALSE
BEGIN:VALARM
TRIGGER:-PT15M
ACTION:DISPLAY
DESCRIPTION:Reminder
END:VALARM
END:VEVENT
END:VCALENDAR
